BEGIN:VCALENDAR
VERSION:2.0
PRODID:-//ChamberMaster//Event Calendar 2.0//EN
METHOD:PUBLISH
X-PUBLISHED-TTL:P3D
REFRESH-INTERVAL:P3D
CALSCALE:GREGORIAN
BEGIN:VEVENT
DTSTART:20150728T150000Z
DTEND:20150728T160000Z
X-MICROSOFT-CDO-ALLDAYEVENT:FALSE
SUMMARY:A Taste of History
DESCRIPTION:Savor a taste of history as you saunter through the park and sip from several of our natural mineral springs! During this one hour tour\, patrons will experience some of the most outstanding architecture\, geology and natural history in Saratoga Springs. This program costs $3. Registration is required. Please call (518) 584-2000 Ext. 116 to register.
X-ALT-DESC;FMTTYPE=text/html:Savor a taste of history as you saunter through the park and sip from several of our natural mineral springs! During this one hour tour\, patrons will experience some of the most outstanding architecture\, geology and natural history in Saratoga Springs. This program costs $3. Registration is required. Please call (518) 584-2000 Ext. 116 to register.
LOCATION:Saratoga Spa State Park
UID:e.2254.10023
SEQUENCE:3
DTSTAMP:20260423T040831Z
URL:https://chamber.saratoga.org/events/details/a-taste-of-history-07-28-2015-10023
END:VEVENT

END:VCALENDAR
