BEGIN:VCALENDAR
VERSION:2.0
PRODID:-//ChamberMaster//Event Calendar 2.0//EN
METHOD:PUBLISH
X-PUBLISHED-TTL:P3D
REFRESH-INTERVAL:P3D
CALSCALE:GREGORIAN
BEGIN:VEVENT
DTSTART:20151221T000000Z
DTEND:20151221T013000Z
X-MICROSOFT-CDO-ALLDAYEVENT:FALSE
SUMMARY:A Saratoga Christmas with The McKrells
DESCRIPTION:We will be continuing our tradition of hosting Christmas shows with Kevin McKrell and his merry musicians. Join us for an evening of Christmas favorites\, Kevin's trademark sound\, and their popular rendition of A Visit from St. Nick (Twas the Night Before Christmas).
X-ALT-DESC;FMTTYPE=text/html:We will be continuing our tradition of hosting Christmas shows with Kevin McKrell and his merry musicians. Join us for an evening of Christmas favorites\, Kevin&#39\;s trademark sound\, and their popular rendition of A Visit from St. Nick (Twas the Night Before Christmas).
LOCATION:HMT at The Spa Little Theater\, Saratoga Spa State Park: www.homemadetheater.org/us/contact-us/
UID:e.2254.12817
SEQUENCE:3
DTSTAMP:20260422T082020Z
URL:https://chamber.saratoga.org/events/details/a-saratoga-christmas-with-the-mckrells-12-20-2015-12817
END:VEVENT

END:VCALENDAR
