BEGIN:VCALENDAR
VERSION:2.0
PRODID:-//ChamberMaster//Event Calendar 2.0//EN
METHOD:PUBLISH
X-PUBLISHED-TTL:P3D
REFRESH-INTERVAL:P3D
CALSCALE:GREGORIAN
BEGIN:VEVENT
DTSTART:20150613T143000Z
DTEND:20150613T150000Z
X-MICROSOFT-CDO-ALLDAYEVENT:FALSE
SUMMARY:A Puppet Show with Ms. Heather
DESCRIPTION:In honor of Saratoga's Centennial\, The Children's Museum at Saratoga will be hosting children?s programs each month to celebrate the city's 100th Birthday! On Saturday\, June 13th at 10:30am come to the Museum to enjoy a fun and imaginative puppet play about the magic waters and springs of Saratoga Springs\, NY by Ms. Heather. Heather Stewart is the owner and director of Apple Blossom Bunch?s Pre-K in the Park Program. The puppet show entitled\, "The Magic of Saratoga Springs!" is FREE with Museum Admission ($6 per person\, children under one are FREE). Please note that the show will be starting promptly at 10:30am\, the Museum will open at 9:30am that morning.
X-ALT-DESC;FMTTYPE=text/html:In honor of Saratoga&#39\;s Centennial\, The Children&#39\;s Museum at Saratoga will be hosting children?s programs each month to celebrate the city&#39\;s 100th Birthday! On Saturday\, June 13th at 10:30am come to the Museum to enjoy a fun and imaginative puppet play about the magic waters and springs of Saratoga Springs\, NY by Ms. Heather. Heather Stewart is the owner and director of Apple Blossom Bunch?s Pre-K in the Park Program. The puppet show entitled\, &quot\;The Magic of Saratoga Springs!&quot\; is FREE with Museum Admission ($6 per person\, children under one are FREE). Please note that the show will be starting promptly at 10:30am\, the Museum will open at 9:30am that morning.
LOCATION:The Children's Museum at Saratoga 69 Caroline Street Saratoga Springs\, NY 12866
UID:e.2254.8756
SEQUENCE:3
DTSTAMP:20260423T072540Z
URL:https://chamber.saratoga.org/events/details/a-puppet-show-with-ms-heather-06-13-2015-8756
END:VEVENT

END:VCALENDAR
