BEGIN:VCALENDAR
VERSION:2.0
PRODID:-//ChamberMaster//Event Calendar 2.0//EN
METHOD:PUBLISH
X-PUBLISHED-TTL:P3D
REFRESH-INTERVAL:P3D
CALSCALE:GREGORIAN
BEGIN:VEVENT
DTSTART:20161210T003000Z
DTEND:20161218T203000Z
X-MICROSOFT-CDO-ALLDAYEVENT:FALSE
SUMMARY:A Charlie Brown Christmas at HMT
DESCRIPTION:By Charles M. Schulz. Based on the television special by Bill Melendez and Lee Mendelson. Stage Adaptation by Eric Schaeffer. By Special Arrangement with Arthur Whitelaw and Ruby Persson. The classic television special comes to life in this faithful adaptation where the Peanuts gang grapples with the real meaning of Christmas. When Charlie Brown complains about overwhelming commercialism during the holiday season\, Lucy suggests that he direct the school Christmas pageant. He accepts\, but this proves to be a frustrating endeavor. When an attempt to restore holiday spirit with a forlorn little tree fails\, he needs Linus' help to learn the real meaning of Christmas. Weekends December 9   18.
X-ALT-DESC;FMTTYPE=text/html:By Charles M. Schulz. Based on the television special by Bill Melendez and Lee Mendelson. Stage Adaptation by Eric Schaeffer. By Special Arrangement with Arthur Whitelaw and Ruby Persson. The classic television special comes to life in this faithful adaptation where the Peanuts gang grapples with the real meaning of Christmas. When Charlie Brown complains about overwhelming commercialism during the holiday season\, Lucy suggests that he direct the school Christmas pageant. He accepts\, but this proves to be a frustrating endeavor. When an attempt to restore holiday spirit with a forlorn little tree fails\, he needs Linus&rsquo\; help to learn the real meaning of Christmas. Weekends December 9 &ndash\; 18.
LOCATION:HMT at The Spa Little Theater 19 Roosevelt Drive Saratoga Spa State Park Saratoga Springs\, NY 12866 www.homemadetheater.org/us/contact-us/
UID:e.2254.17319
SEQUENCE:3
DTSTAMP:20260420T184410Z
URL:https://chamber.saratoga.org/events/details/a-charlie-brown-christmas-at-hmt-12-09-2016-17319
END:VEVENT

END:VCALENDAR
