BEGIN:VCALENDAR
VERSION:2.0
PRODID:-//ChamberMaster//Event Calendar 2.0//EN
METHOD:PUBLISH
X-PUBLISHED-TTL:P3D
REFRESH-INTERVAL:P3D
CALSCALE:GREGORIAN
BEGIN:VEVENT
DTSTART:20150530T220000Z
DTEND:20150531T020000Z
X-MICROSOFT-CDO-ALLDAYEVENT:FALSE
SUMMARY:A Black and White Affair - Gatsby Style to benefit The Wesley Foundation
DESCRIPTION:The Wesley Foundation Gala\, presented by The Adirondack Trust Company\, will feature roaring 1920's fun at the beautiful Saratoga Golf and Polo Club to raise funds for The Wesley Community - an organization that serves more than 700 Saratoga area seniors.  The evening will feature delicious food from Chef John Ireland at Saratoga Golf and Polo Club\, d cor from Fine Affairs\, music from Funk Evolution\, classic cars from The Saratoga Automobile Museum\, a sundae bar featuring ice cream from Ben and Jerry's of Saratoga\, and photos against vintage backdrops provided by TapSnap.  Don't miss this exciting evening to support The Wesley Community's Springs building renovation.  Advance reservations are recommended.  Black and white cocktail party attire with your favorite splash of color is suggested.  Period attire is also welcome.  Tickets are $100 per person or $175 per couple.  To make a reservation\, call 518-691-1420 or reserve online at www.thewesleycommunity.org/gala.
X-ALT-DESC;FMTTYPE=text/html:<span style="font-size: 11pt\;"><span style="font-family: calibri\,sans-serif\;"><span style="font-family: calibri\;">The Wesley Foundation Gala\,&nbsp\;presented by The Adirondack Trust Company\,&nbsp\;will&nbsp\;feature roaring 1920&rsquo\;s fun at the beautiful Saratoga Golf and Polo Club to raise funds for The Wesley Community - an organization that serves more than 700 Saratoga area seniors.&nbsp\;&nbsp\;The evening will feature delicious food from Chef John Ireland at Saratoga Golf and Polo Club\, d&eacute\;cor from Fine Affairs\, music from Funk Evolution\, classic cars from The Saratoga Automobile Museum\, a sundae bar featuring ice cream from Ben and Jerry&rsquo\;s of Saratoga\, and photos against vintage backdrops provided by TapSnap.&nbsp\; Don&rsquo\;t miss this exciting evening to support The Wesley Community&rsquo\;s Springs building renovation.&nbsp\; Advance reservations are recommended.&nbsp\; Black and white cocktail party attire with your favorite splash of color is suggested.&nbsp\; Period attire is also welcome.&nbsp\; Tickets are $100 per person or $175 per couple.&nbsp\; To make a reservation\, call 518-691-1420 or reserve online at </span><a href="http://www.thewesleycommunity.org/gala"><span style="font-family: calibri\;"><span style="color: rgb(0\, 0\, 255)\;">www.thewesleycommunity.org/gala</span></span></a><span style="font-family: calibri\;">.&nbsp\; </span></span></span>
LOCATION:Saratoga Golf and Polo Club
UID:e.2254.6154
SEQUENCE:3
DTSTAMP:20260423T164350Z
URL:https://chamber.saratoga.org/events/details/a-black-and-white-affair-gatsby-style-to-benefit-the-wesley-foundation-05-30-2015-6154
END:VEVENT

END:VCALENDAR
