BEGIN:VCALENDAR
VERSION:2.0
PRODID:-//ChamberMaster//Event Calendar 2.0//EN
METHOD:PUBLISH
X-PUBLISHED-TTL:P3D
REFRESH-INTERVAL:P3D
CALSCALE:GREGORIAN
BEGIN:VEVENT
DTSTART:20140802T100000Z
DTEND:20140802T180000Z
X-MICROSOFT-CDO-ALLDAYEVENT:FALSE
SUMMARY:9th Annual Hemmings Sports & Exotics Car Show - 08/02/2014
DESCRIPTION:Car ShowHemmings Sports & Exotic Car magazine\, a publication of Hemmings Motor News\, invites you to join us for our 9th Annual Hemmings Sports & Exotic Car Show\, Saturday\, August 2\, 2014 at the beautiful Saratoga Auto Museum in Saratoga Springs\, New York.\nGates open at 8 a.m. The Car Show starts at 10 a.m. and ends at 4 p.m. There will be plenty of opportunity to meet the staff of Hemmings. Coverage of the event is always featured in Hemmings Sports & Exotic Car magazine\, and many award-winning cars have gone on to be featured in the pages of our publications as well.\nTrophies will be awarded in five special classes: Aston Martin\; Porsche 911\; MG\; Saab\; and European Sport Racers. Trophies will also be awarded in the British\, French\, German\, Italian\, Swedish\, Japanese and European car classes\, and for late-model exotic cars from 1989 to the present day.\nEntrants are limited to sports cars\, GTs and exotics built outside the United States prior to\n1989. We also welcome owners of foreign sports cars and GTs built after 1989\, to show their cars in a non-judged\, display-only area. The first 300 entrants will receive a free commemorative magnet.\nTo register please visit: www.hemmings.com/saratoga
X-ALT-DESC;FMTTYPE=text/html:<p>Car Show</p><p class="MsoNormal" style="margin-bottom: .0001pt\; line-height: normal\; mso-layout-grid-align: none\; text-autospace: none\;"><em><span style="font-size: 11.5pt\;">Hemmings Sports &amp\; Exotic Car </span></em><span style="font-size: 11.5pt\;">magazine\, a publication of Hemmings Motor News\, invites you to join us for our 9</span><span style="font-size: 11.5pt\;">th Annual Hemmings Sports &amp\; Exotic Car Show</span><span style="font-size: 11.5pt\;">\, Saturday\, August 2\, 2014 at the beautiful Saratoga Auto Museum in Saratoga Springs\, New York.</span></p>\n<p class="MsoNormal" style="margin-bottom: .0001pt\; line-height: normal\; mso-layout-grid-align: none\; text-autospace: none\;"><span style="font-size: 11.5pt\;">Gates open at 8 a.m. The Car Show starts at 10 a.m. and ends at 4 p.m. There will be plenty of opportunity to meet the staff of Hemmings. Coverage of the event is always featured in </span><em><span style="font-size: 11.5pt\;">Hemmings Sports &amp\; Exotic Car </span></em><span style="font-size: 11.5pt\;">magazine\, and many award-winning cars have gone on to be featured in the pages of our publications as well.</span></p>\n<p class="MsoNormal" style="margin-bottom: .0001pt\; line-height: normal\; mso-layout-grid-align: none\; text-autospace: none\;"><span style="font-size: 11.5pt\;">Trophies will be awarded in five special classes: Aston Martin\; Porsche 911\; MG\; Saab\; and European Sport Racers. Trophies will also be awarded in the British\, French\, German\, Italian\, Swedish\, Japanese and European car classes\, and for late-model exotic cars from 1989 to the present day.</span></p>\n<p class="MsoNormal" style="margin-bottom: .0001pt\; line-height: normal\; mso-layout-grid-align: none\; text-autospace: none\;"><span style="font-size: 11.5pt\;">Entrants are limited to sports cars\, GTs and exotics built outside the United States prior to</span></p>\n<p class="MsoNormal" style="margin-bottom: .0001pt\; line-height: normal\; mso-layout-grid-align: none\; text-autospace: none\;"><span style="font-size: 11.5pt\;">1989. We also welcome owners of foreign sports cars and GTs built after 1989\, to show their cars in a non-judged\, display-only area. The first 300 entrants will receive a free commemorative magnet.</span></p>\n<p class="MsoNormal" style="margin-bottom: .0001pt\; line-height: normal\; mso-layout-grid-align: none\; text-autospace: none\;"><span style="font-size: 11.5pt\;">To register please visit: <a href="http://www.hemmings.com/saratoga">www.hemmings.com/saratoga</a></span></p>
LOCATION:Saratoga Automobile Museum
UID:e.2254.2769
SEQUENCE:3
DTSTAMP:20260424T155855Z
URL:https://chamber.saratoga.org/events/details/9th-annual-hemmings-sports-exotics-car-show-08-02-2014-08-02-2014-2769
END:VEVENT

END:VCALENDAR
