BEGIN:VCALENDAR
VERSION:2.0
PRODID:-//ChamberMaster//Event Calendar 2.0//EN
METHOD:PUBLISH
X-PUBLISHED-TTL:P3D
REFRESH-INTERVAL:P3D
CALSCALE:GREGORIAN
BEGIN:VEVENT
DTSTART:20140808T020000Z
DTEND:20140810T020000Z
X-MICROSOFT-CDO-ALLDAYEVENT:FALSE
SUMMARY:9th Annual Canal Splash - 08/07/2014
DESCRIPTION:Celebrate the history\, culture\, recreational appeal\, and beauty of the New York State Canal System and Erie Canalway Trail9TH ANNUAL CANAL SPLASH! Friday through Sunday\, August 8 through 10\, 2014 Celebrate the history\, culture\, recreational appeal\, and beauty of the New York State Canal System and Erie Canalway Trail during Canal Splash! Canal Splash! is a coordinated series of locally organized events and activities\, including nature and history walks\, museum and gallery exhibits\, rowing regattas\, kayak and canoe outings\, musical performances\, boat tours and more.\nhttp://www.canals.ny.gov/news/events/special/index.html
X-ALT-DESC;FMTTYPE=text/html:<p>Celebrate the history\, culture\, recreational appeal\, and beauty of the New York State Canal System and Erie Canalway Trail</p><p>9TH ANNUAL CANAL SPLASH! Friday through Sunday\, August&nbsp\;8 through 10\, 2014 Celebrate the history\, culture\, recreational appeal\, and beauty of the New York State Canal System and Erie Canalway Trail during Canal Splash! Canal Splash! is a coordinated series of locally organized events and activities\, including nature and history walks\, museum and gallery exhibits\, rowing regattas\, kayak and canoe outings\, musical performances\, boat tours and more.</p>\n<p><a href="http://www.canals.ny.gov/news/events/special/index.html">http://www.canals.ny.gov/news/events/special/index.html</a></p>
LOCATION:along the New York State Canal System and Erie Can
UID:e.2254.1647
SEQUENCE:3
DTSTAMP:20260424T172359Z
URL:https://chamber.saratoga.org/events/details/9th-annual-canal-splash-08-07-2014-08-07-2014-1647
END:VEVENT

END:VCALENDAR
