BEGIN:VCALENDAR
VERSION:2.0
PRODID:-//ChamberMaster//Event Calendar 2.0//EN
METHOD:PUBLISH
X-PUBLISHED-TTL:P3D
REFRESH-INTERVAL:P3D
CALSCALE:GREGORIAN
BEGIN:VEVENT
DTSTART:20150129T230000Z
DTEND:20150130T023000Z
X-MICROSOFT-CDO-ALLDAYEVENT:FALSE
SUMMARY:97th Annual Dinner
DESCRIPTION:The Saratoga County Chamber of Commerce cordially invites you to the 97th Annual Dinner on Thursday\, January 29th\, from 6 to 9:30 p.m. at the Saratoga Springs City Center\, 522 Broadway. The event will kickoff with a Cocktail Hour\, from 6 to 7 p.m. and will be followed by dinner and the program\, from 7 to 8:30 and will conclude with a dessert reception\, running until 9:30.\n\n \n\n2014 Chair of the Board and President of The Adirondack Trust Company\, Steve von Schenk\, will be recognized for his leadership and recap the successes of this past year. In addition\, 2015 Chair\, Valerie Muratori\, Saratoga Bridges\, NYSARC\, Inc.\, Saratoga County Chapter\, will be welcomed in\, along with with the Chamber board\, volunteers and 25 year anniversary members being recognized for their support.
X-ALT-DESC;FMTTYPE=text/html:<p>The Saratoga County Chamber of Commerce cordially invites you to the 97th Annual Dinner on Thursday\, January 29th\, from 6 to 9:30 p.m. at the Saratoga Springs City Center\, 522 Broadway. The event will kickoff with a Cocktail Hour\, from 6 to 7 p.m. and will be followed by dinner and the program\, from 7 to 8:30 and will conclude with a dessert reception\, running until 9:30.<br />\n&nbsp\;</p>\n\n<p>2014 Chair of the Board and President of The Adirondack Trust Company\, Steve von Schenk\, will be recognized for his leadership and recap the successes of this past year. In addition\, 2015 Chair\, Valerie Muratori\, Saratoga Bridges\, NYSARC\, Inc.\, Saratoga County Chapter\, will be welcomed in\, along with with the Chamber board\, volunteers and 25 year anniversary members being recognized for their support.</p>\n
LOCATION:Saratoga Springs City Center 522 Broadway Saratoga Springs\, NY 12866
UID:e.2254.686
SEQUENCE:3
DTSTAMP:20260424T014820Z
URL:https://chamber.saratoga.org/events/details/97th-annual-dinner-01-29-2015-686
END:VEVENT

END:VCALENDAR
