BEGIN:VCALENDAR
VERSION:2.0
PRODID:-//ChamberMaster//Event Calendar 2.0//EN
METHOD:PUBLISH
X-PUBLISHED-TTL:P3D
REFRESH-INTERVAL:P3D
CALSCALE:GREGORIAN
BEGIN:VEVENT
DTSTART:20150304T123000Z
DTEND:20150304T140000Z
X-MICROSOFT-CDO-ALLDAYEVENT:FALSE
SUMMARY:8th Annual Upstate Business Leaders Survey: Capital Region Event
DESCRIPTION:The Siena College Research Institute (SRI) has conducted the eighth annual Upstate New York Business Leaders Survey\, measuring the perceptions that area CEOs have of current and future business conditions. SRI interviewed 524 CEOs of private\, for-profit companies in four upstate markets from a range of industries\, revealing an optimistic outlook among business leaders for the first time since 2007. Join us for a presentation and analysis of the survey?s findings with a focus on Capital Region results\, followed by a panel discussion regarding business leaders? confidence and expectations and challenges for the year ahead. Breakfast and networking at 7:30am\, program begins at 8:00am. Featuring: Dr. Donald P. Levy\, Director\, Siena Research Institute\; F. Michael Tucker\, President & CEO\, Center for Economic Growth\; Rex Smith\, Editor\, Times Union\; Tom Nardacci\, CEO & Founder\, Gramercy Communications
X-ALT-DESC;FMTTYPE=text/html:The Siena College Research Institute (SRI) has conducted the eighth annual Upstate New York Business Leaders Survey\, measuring the perceptions that area CEOs have of current and future business conditions. SRI interviewed 524 CEOs of private\, for-profit companies in four upstate markets from a range of industries\, revealing an optimistic outlook among business leaders for the first time since 2007. Join us for a presentation and analysis of the survey?s findings with a focus on Capital Region results\, followed by a panel discussion regarding business leaders? confidence and expectations and challenges for the year ahead. Breakfast and networking at 7:30am\, program begins at 8:00am. Featuring: Dr. Donald P. Levy\, Director\, Siena Research Institute\; F. Michael Tucker\, President &amp\; CEO\, Center for Economic Growth\; Rex Smith\, Editor\, Times Union\; Tom Nardacci\, CEO &amp\; Founder\, Gramercy Communications
LOCATION:Desmond Hotel & Conference Center
UID:e.2254.6043
SEQUENCE:3
DTSTAMP:20260423T214720Z
URL:https://chamber.saratoga.org/events/details/8th-annual-upstate-business-leaders-survey-capital-region-event-03-04-2015-6043
END:VEVENT

END:VCALENDAR
