BEGIN:VCALENDAR
VERSION:2.0
PRODID:-//ChamberMaster//Event Calendar 2.0//EN
METHOD:PUBLISH
X-PUBLISHED-TTL:P3D
REFRESH-INTERVAL:P3D
CALSCALE:GREGORIAN
BEGIN:VEVENT
DTSTART:20150505T130000Z
DTEND:20150507T160000Z
X-MICROSOFT-CDO-ALLDAYEVENT:FALSE
SUMMARY:8th Annual Health Awareness Expo
DESCRIPTION:Join us at The Saratoga Senior Center for the 8th Annual Health Awareness Expo. Meet with health care professionals\, attend clinics and screenings\, and try the "Virtual Dementia" tour. This event is sponsored by CDPHP\, Hearing Care Resources\, The Wesley Community and Home Helpers.
X-ALT-DESC;FMTTYPE=text/html:Join us at The Saratoga Senior Center for the 8th Annual Health Awareness Expo. Meet with health care professionals\, attend clinics and screenings\, and try the &quot\;Virtual Dementia&quot\; tour. This event is sponsored by CDPHP\, Hearing Care Resources\, The Wesley Community and Home Helpers.
LOCATION:The Saratoga Senior Center\, 5 Williams Street\, Saratoga Springs 12866
UID:e.2254.7744
SEQUENCE:3
DTSTAMP:20260423T163935Z
URL:https://chamber.saratoga.org/events/details/8th-annual-health-awareness-expo-05-05-2015-7744
END:VEVENT

END:VCALENDAR
