BEGIN:VCALENDAR
VERSION:2.0
PRODID:-//ChamberMaster//Event Calendar 2.0//EN
METHOD:PUBLISH
X-PUBLISHED-TTL:P3D
REFRESH-INTERVAL:P3D
CALSCALE:GREGORIAN
BEGIN:VEVENT
DTSTART:20150913T133000Z
DTEND:20150913T170000Z
X-MICROSOFT-CDO-ALLDAYEVENT:FALSE
SUMMARY:7th Annual Saratoga Stroll for Epilepsy
DESCRIPTION:More than 500 participants will come together at the Saratoga Spa State Park on Sunday\, September 13\, to raise public awareness and funds for the Epilepsy Foundation of Northeastern New York. All proceeds will be used to support the programs and services offered by the Foundation at no cost for people with epilepsy and their families. Attendees will also enjoy a BBQ lunch courtesy of the Holiday Inn Resort in Lake George\, raffles\, childrens activities and a brisk walk in the park. Trophies will be awarded to the Top Individual\, Top Friends and Family Team and the Top Company Team fundraisers. T-shirts for participating walkers will be available while they last.
X-ALT-DESC;FMTTYPE=text/html:More than 500 participants will come together at the Saratoga Spa State Park on Sunday\, September 13\, to raise public awareness and funds for the Epilepsy Foundation of Northeastern New York. All proceeds will be used to support the programs and services offered by the Foundation at no cost for people with epilepsy and their families. Attendees will also enjoy a BBQ lunch courtesy of the Holiday Inn Resort in Lake George\, raffles\, childrens activities and a brisk walk in the park. Trophies will be awarded to the Top Individual\, Top Friends and Family Team and the Top Company Team fundraisers. T-shirts for participating walkers will be available while they last.
LOCATION:Saratoga Spa State Park (Columbia Pavilion)
UID:e.2254.12343
SEQUENCE:3
DTSTAMP:20260423T005601Z
URL:https://chamber.saratoga.org/events/details/7th-annual-saratoga-stroll-for-epilepsy-09-13-2015-12343
END:VEVENT

END:VCALENDAR
