BEGIN:VCALENDAR
VERSION:2.0
PRODID:-//ChamberMaster//Event Calendar 2.0//EN
METHOD:PUBLISH
X-PUBLISHED-TTL:P3D
REFRESH-INTERVAL:P3D
CALSCALE:GREGORIAN
BEGIN:VEVENT
DTSTART:20160409T230000Z
DTEND:20160410T030000Z
X-MICROSOFT-CDO-ALLDAYEVENT:FALSE
SUMMARY:7th Annual Purple and Gold Gala
DESCRIPTION:Christian Brothers Academy's 7th Annual Purple & Gold Gala in celebration of Our Defining Moment will be on April 9\, 2016 at Ninety State Events in Albany. This fundraising event provides an opportunity for alumni\, family\, faculty\, and friends to enjoy an evening together in support of CBA.\n\n\n\nYou can support this event in many ways: by being an event sponsor\, donating an auction idea\, purchasing an advertisement or admission to attend the gala. For more information\, please visit the gala's website at www.cbaalbany.org/gala.
X-ALT-DESC;FMTTYPE=text/html:Christian Brothers Academy&#39\;s 7th Annual Purple &amp\; Gold Gala in celebration of Our Defining Moment will be on April 9\, 2016 at Ninety State Events in Albany. This fundraising event provides an opportunity for alumni\, family\, faculty\, and friends to enjoy an evening together in support of CBA.<br />\n<br />\nYou can support this event in many ways: by being an event sponsor\, donating an auction idea\, purchasing an advertisement or admission to attend the gala. For more information\, please visit the gala&#39\;s website at www.cbaalbany.org/gala.
LOCATION:90 State Events Albany
UID:e.2254.14281
SEQUENCE:3
DTSTAMP:20260421T163931Z
URL:https://chamber.saratoga.org/events/details/7th-annual-purple-and-gold-gala-04-09-2016-14281
END:VEVENT

END:VCALENDAR
