BEGIN:VCALENDAR
VERSION:2.0
PRODID:-//ChamberMaster//Event Calendar 2.0//EN
METHOD:PUBLISH
X-PUBLISHED-TTL:P3D
REFRESH-INTERVAL:P3D
CALSCALE:GREGORIAN
BEGIN:VEVENT
DTSTART:20140915T120000Z
DTEND:20140915T210000Z
X-MICROSOFT-CDO-ALLDAYEVENT:FALSE
SUMMARY:7th Annual Golf Classic - 09/15/2014
DESCRIPTION:Golf Classic to raise funds for Only $125 per person for: Golf & cart at one of Saratoga's nicest courses\, a delicious lunch at the turn\, choice of steak or chicken dinner with all the fixings and dessert too! Help us support the Glens Falls Area Youth Center\, Saratoga Regional YMCA - Corinth Branch and Cohoes Community Center. For sponsorship and registration information please call 654-9028 x2131 or visit us at hrccu.org.
X-ALT-DESC;FMTTYPE=text/html:<p>Golf Classic to raise funds for </p><p align="left">Only $125 per person for: Golf &amp\; cart at one of Saratoga's nicest courses\, a delicious lunch at the turn\, choice of steak or chicken dinner with all the fixings and dessert too! Help us support the Glens Falls Area Youth Center\, Saratoga Regional YMCA - Corinth Branch and Cohoes Community Center. </p><p align="left">For sponsorship and registration information please call 654-9028 x2131 or visit us at hrccu.org. </p><p align="left">&nbsp\;</p>
LOCATION:Saratoga Lake Golf Course
UID:e.2254.3318
SEQUENCE:3
DTSTAMP:20260424T110844Z
URL:https://chamber.saratoga.org/events/details/7th-annual-golf-classic-09-15-2014-09-15-2014-3318
END:VEVENT

END:VCALENDAR
