BEGIN:VCALENDAR
VERSION:2.0
PRODID:-//ChamberMaster//Event Calendar 2.0//EN
METHOD:PUBLISH
X-PUBLISHED-TTL:P3D
REFRESH-INTERVAL:P3D
CALSCALE:GREGORIAN
BEGIN:VEVENT
DTSTART:20150615T160000Z
DTEND:20150615T230000Z
X-MICROSOFT-CDO-ALLDAYEVENT:FALSE
SUMMARY:7th Annual AIM Services\, Inc. Golf Tournament
DESCRIPTION:Play on the pristine Ballston Spa Country Club golf venue while enjoying lunch\, dinner & spirits with prizes\, raffles\, and a silent auction! All proceeds go to supporting the "power of potential" in people with disabilities\, including those with traumatic brain injuries. AIM's initiative for 2015\, with your help\, will be to provide enhanced Respite services to families throughout our region!
X-ALT-DESC;FMTTYPE=text/html:Play on the pristine Ballston Spa Country Club golf venue while enjoying lunch\, dinner &amp\; spirits with prizes\, raffles\, and a silent auction! All proceeds go to supporting the &quot\;power of potential&quot\; in people with disabilities\, including those with traumatic brain injuries. AIM&#39\;s initiative for 2015\, with your help\, will be to provide enhanced Respite services to families throughout our region!
LOCATION:Ballston Spa Country Club
UID:e.2254.7759
SEQUENCE:3
DTSTAMP:20260423T073024Z
URL:https://chamber.saratoga.org/events/details/7th-annual-aim-services-inc-golf-tournament-06-15-2015-7759
END:VEVENT

END:VCALENDAR
