BEGIN:VCALENDAR
VERSION:2.0
PRODID:-//ChamberMaster//Event Calendar 2.0//EN
METHOD:PUBLISH
X-PUBLISHED-TTL:P3D
REFRESH-INTERVAL:P3D
CALSCALE:GREGORIAN
BEGIN:VEVENT
DTSTART:20150426T170000Z
DTEND:20150426T190000Z
X-MICROSOFT-CDO-ALLDAYEVENT:FALSE
SUMMARY:75th Annual Conference and Expo\, Diamond Jubilee Anniversary Conference
DESCRIPTION:NYS Recreation and Park Society is proud to celebrate our 75th Diamond Jubilee Anniversary Conference\, held in conjunction with NYUASLA.
X-ALT-DESC;FMTTYPE=text/html:NYS Recreation and Park Society is proud to celebrate our 75th Diamond Jubilee Anniversary Conference\, held in conjunction with NYUASLA.
LOCATION:Saratoga City Center 522 Broadway Saratoga Springs
UID:e.2254.6233
SEQUENCE:3
DTSTAMP:20260423T214616Z
URL:https://chamber.saratoga.org/events/details/75th-annual-conference-and-expo-diamond-jubilee-anniversary-conference-04-26-2015-6233
END:VEVENT

END:VCALENDAR
