BEGIN:VCALENDAR
VERSION:2.0
PRODID:-//ChamberMaster//Event Calendar 2.0//EN
METHOD:PUBLISH
X-PUBLISHED-TTL:P3D
REFRESH-INTERVAL:P3D
CALSCALE:GREGORIAN
BEGIN:VEVENT
DTSTART:20140302T174500Z
DTEND:20141213T050000Z
X-MICROSOFT-CDO-ALLDAYEVENT:FALSE
SUMMARY:73rd Harness Racing Season - 03/02/2014
DESCRIPTION:For Live Harness Racing with a rich history\, Saratoga Casino and Raceway is the place to go!Still known to many as the Saratoga Harness track\, today people can view live races outside at the rail\, in the lower clubhouse\, in the Grandstand or while dining at Fortunes Restaurant or Lucky Joe's. In addition\, our guests can watch and wager on live racing in New York or from tracks around the country\, year-round\, on one of the many TV's located in our Mezzanine.\nDine and Win! For the best seat in the house during live racing\, check out Fortunes Restaurant\, overlooking all the action of our live racing. Place wagers right from your table for a dining experience unmatched by any other restaurant in the region. View Live and Simulcast Calendars. To view our Responsible Gaming Policy\, click here.\nhttp://saratogacasino.com/Racing/Racing-Calendar.aspx
X-ALT-DESC;FMTTYPE=text/html:<p>For Live Harness Racing with a rich history\, Saratoga Casino and Raceway is the place to go!</p><p>Still known to many as the Saratoga Harness track\, today people can view live races outside at the rail\, in the lower clubhouse\, in the Grandstand or while dining at Fortunes Restaurant or Lucky Joe's. In addition\, our guests can watch and wager on live racing in New York or from tracks around the country\, year-round\, on one of the many TV's located in our Mezzanine.</p>\n<p><span style="text-decoration: underline\;">Dine and Win!</span> For the best seat in the house during live racing\, check out <a href="http://saratogacasino.com/Dining/Fortunes.aspx" shape="rect"><strong>Fortunes Restaurant</strong></a>\, overlooking all the action of our live racing. Place wagers right from your table for a dining experience unmatched by any other restaurant in the region. <a title="Live and Simulcast Calendars. " href="http://www.saratogagamingandraceway.com/Racing/Racing-Calendar.aspx" shape="rect">View Live and Simulcast Calendars.</a> To view our Responsible Gaming Policy\, <a title="Responsible Gaming " href="http://saratogacasino.com/Racing/Responsible-Gaming-and-NY-Lottery-Policy_copy1.aspx">click here</a>.</p>\n<div id="landing_content_rgt"><a href="http://saratogacasino.com/Racing/Racing-Calendar.aspx">http://saratogacasino.com/Racing/Racing-Calendar.aspx</a></div>
LOCATION:Saratoga Casino and Raceway
UID:e.2254.3245
SEQUENCE:3
DTSTAMP:20260424T064059Z
URL:https://chamber.saratoga.org/events/details/73rd-harness-racing-season-03-02-2014-03-02-2014-3245
END:VEVENT

END:VCALENDAR
