BEGIN:VCALENDAR
VERSION:2.0
PRODID:-//ChamberMaster//Event Calendar 2.0//EN
METHOD:PUBLISH
X-PUBLISHED-TTL:P3D
REFRESH-INTERVAL:P3D
CALSCALE:GREGORIAN
BEGIN:VEVENT
DTSTART:20150516T010000Z
DTEND:20150516T040000Z
X-MICROSOFT-CDO-ALLDAYEVENT:FALSE
SUMMARY:70s Party with The Audiostars
DESCRIPTION:Saratoga National Golf Club | 458 Union Avenue The Grand Ballroom + Balcony - 2nd Floor.  $5 Admission at the door 70s Party with The Audiostars.  Dance Floor\, Cash Bar VIP Areas Available .  518.306.2330 Step and Repeat by Red Carpet Entrances 70's'\,attire is strongly encouraged Chance to Win a $100 Prime Gift Card \, Best Dressed LET'S SHAKE IT TO THE NICE WEATHER!
X-ALT-DESC;FMTTYPE=text/html:Saratoga National Golf Club | 458 Union Avenue The Grand Ballroom + Balcony - 2nd Floor. &nbsp\;$5 Admission at the door 70s Party with The Audiostars. &nbsp\;Dance Floor\, Cash Bar VIP Areas Available&nbsp\;. &nbsp\;518.306.2330 Step and Repeat by Red Carpet Entrances 70&#39\;s&#39\;\,attire is strongly encouraged Chance to Win a $100 Prime Gift Card&nbsp\;\, Best Dressed LET&#39\;S SHAKE IT TO THE NICE WEATHER!
LOCATION:Prime at Saratoga National 458 Union Ave Saratoga Springs NY\, 12866
UID:e.2254.8321
SEQUENCE:3
DTSTAMP:20260423T170854Z
URL:https://chamber.saratoga.org/events/details/70s-party-with-the-audiostars-05-15-2015-8321
END:VEVENT

END:VCALENDAR
