BEGIN:VCALENDAR
VERSION:2.0
PRODID:-//ChamberMaster//Event Calendar 2.0//EN
METHOD:PUBLISH
X-PUBLISHED-TTL:P3D
REFRESH-INTERVAL:P3D
CALSCALE:GREGORIAN
BEGIN:VEVENT
DTSTART:20160602T230000Z
DTEND:20160603T020000Z
X-MICROSOFT-CDO-ALLDAYEVENT:FALSE
SUMMARY:6th Annual ?Music & Mingling? event to benefit the Adult & Senior Center of Saratoga
DESCRIPTION:Please join us in supporting The 6th Annual "Music & Mingling" event to benefit the Adult & Senior Center of Saratoga. Our annual event is being held at the Saratoga Polo Field on Thursday evening\, June 2\, 2016. \n\n \n\nKnown as the "kick-off event of the season" this exciting evening features an open bar\, gourmet foods by The Old Daley Inn\, cigar tastings\, live music by Grand Central Station\, Tarot Card readings\, a silent auction and much more! Last year we had more than 400 in attendance!  \n\n\n\nDon't miss out - this year's event will feature an elegant VIP cocktail hour sponsored by Moet and Hennessey including Veuve Clicquot sabrage for sponsors at the $1\,000 level and above.
X-ALT-DESC;FMTTYPE=text/html:<span style="font-size:12.0pt">Please join us in supporting <strong>The 6<sup>th</sup> Annual &ldquo\;Music &amp\; </strong></span><strong><span style="font-size:12.0pt">Mingling&rdquo\;</span></strong><span style="font-size:12.0pt"> event to benefit the Adult &amp\; Senior Center of Saratoga. Our annual event is being held at the Saratoga Polo Field on Thursday evening\, June 2\, 2016. </span><br />\n&nbsp\;<br />\n<span style="font-size:12.0pt">Known as the &ldquo\;kick-off event of the season&rdquo\; this exciting evening features an open bar\, gourmet foods by The Old Daley Inn\, cigar tastings\, live music by Grand Central Station\, Tarot Card readings\, a silent auction and much more! Last year we had more than 400 in attendance!&nbsp\;</span>&nbsp\;<br />\n<br />\n<span style="font-size:12.0pt"><strong>Don&rsquo\;t miss out - this year&rsquo\;s event will feature an elegant VIP cocktail hour sponsored by Moet and Hennessey including Veuve Clicquot sabrage for sponsors at the $1\,000 level and above.&nbsp\;</strong></span><br />\n&nbsp\;
LOCATION:Saratoga Polo Field\, 2 Bloomfield Road\, Greenfield Center\, NY
UID:e.2254.16383
SEQUENCE:3
DTSTAMP:20260421T081211Z
URL:https://chamber.saratoga.org/events/details/6th-annual-music-mingling-event-to-benefit-the-adult-senior-center-of-saratoga-06-02-2016-16383
END:VEVENT

END:VCALENDAR
