BEGIN:VCALENDAR
VERSION:2.0
PRODID:-//ChamberMaster//Event Calendar 2.0//EN
METHOD:PUBLISH
X-PUBLISHED-TTL:P3D
REFRESH-INTERVAL:P3D
CALSCALE:GREGORIAN
BEGIN:VEVENT
DTSTART:20161027T220000Z
DTEND:20161028T020000Z
X-MICROSOFT-CDO-ALLDAYEVENT:FALSE
SUMMARY:6th Annual Casino Night
DESCRIPTION:Northeastern Association of the Blind at Albany's 6th Annual Casino Night. This exclusive event includes\, full open bar\, bourbon and scotch tasting\, cigars and more. The proceeds from this event will benefit NABA's Youth Program for blind and visually impaired children.
X-ALT-DESC;FMTTYPE=text/html:Northeastern Association of the Blind at Albany&#39\;s 6th Annual Casino Night. This exclusive event includes\, full open bar\, bourbon and scotch tasting\, cigars and more. The proceeds from this event will benefit NABA&#39\;s Youth Program for blind and visually impaired children.
LOCATION:Albany County Club
UID:e.2254.16961
SEQUENCE:3
DTSTAMP:20260420T214533Z
URL:https://chamber.saratoga.org/events/details/6th-annual-casino-night-10-27-2016-16961
END:VEVENT

END:VCALENDAR
