BEGIN:VCALENDAR
VERSION:2.0
PRODID:-//ChamberMaster//Event Calendar 2.0//EN
METHOD:PUBLISH
X-PUBLISHED-TTL:P3D
REFRESH-INTERVAL:P3D
CALSCALE:GREGORIAN
BEGIN:VEVENT
DTSTART:20160408T220000Z
DTEND:20160409T013000Z
X-MICROSOFT-CDO-ALLDAYEVENT:FALSE
SUMMARY:5th Annual Night at the Brewseum
DESCRIPTION:http://www.saratogaspringslions.com/brewseum/\n\n\n\nThis is a Beer\, Wine\, and Food tasting event!  All proceeds benefit the Saratoga Springs Lions Club and the Friends of the NYS Military Museum.
X-ALT-DESC;FMTTYPE=text/html:<a href="http://www.saratogaspringslions.com/brewseum/">http://www.saratogaspringslions.com/brewseum/<br />\n<br />\nT</a>his is a Beer\, Wine\, and Food tasting event! &nbsp\;All proceeds benefit the Saratoga Springs Lions Club and the Friends of the NYS Military Museum.
LOCATION:NYS Military Museum located on Lake Avenue in Saratoga Springs
UID:e.2254.14917
SEQUENCE:3
DTSTAMP:20260421T163845Z
URL:https://chamber.saratoga.org/events/details/5th-annual-night-at-the-brewseum-04-08-2016-14917
END:VEVENT

END:VCALENDAR
