BEGIN:VCALENDAR
VERSION:2.0
PRODID:-//ChamberMaster//Event Calendar 2.0//EN
METHOD:PUBLISH
X-PUBLISHED-TTL:P3D
REFRESH-INTERVAL:P3D
CALSCALE:GREGORIAN
BEGIN:VEVENT
DTSTART:20150528T230000Z
DTEND:20150529T020000Z
X-MICROSOFT-CDO-ALLDAYEVENT:FALSE
SUMMARY:5th Annual Music & Mingling
DESCRIPTION:Our 5th annual Music & Mingling event is the kickoff party of the season! Open Bar\, Gourmet Foods by Old Daley Inn.  Live Music by Grand Central Station\, Photo Booth\, Cigar Tastings & More! All to benefit the Adult & Senior Center of Saratoga.
X-ALT-DESC;FMTTYPE=text/html:Our 5th annual Music &amp\; Mingling event is the kickoff party of the season! Open Bar\, Gourmet Foods by Old Daley Inn. &nbsp\;Live Music by Grand Central Station\, Photo Booth\, Cigar Tastings &amp\; More! All to benefit the Adult &amp\; Senior Center of Saratoga.
LOCATION:Saratoga Polo Field
UID:e.2254.6916
SEQUENCE:3
DTSTAMP:20260423T170736Z
URL:https://chamber.saratoga.org/events/details/5th-annual-music-mingling-05-28-2015-6916
END:VEVENT

END:VCALENDAR
