BEGIN:VCALENDAR
VERSION:2.0
PRODID:-//ChamberMaster//Event Calendar 2.0//EN
METHOD:PUBLISH
X-PUBLISHED-TTL:P3D
REFRESH-INTERVAL:P3D
CALSCALE:GREGORIAN
BEGIN:VEVENT
DTSTART:20150928T140000Z
DTEND:20150929T000000Z
X-MICROSOFT-CDO-ALLDAYEVENT:FALSE
SUMMARY:5th Annual Jake straughter Memorial Golf Tournament for Epilepsy
DESCRIPTION:More than 200 participants will compete on two (Wolferts Roost C.C. and Shaker Ridge C.C.)of the finest and most challenging golf courses in the Capital Region to benefit the Epilepsy Foundation of NENY. EFNENY offers programs and services at no cost to an estimated 45\,000 people with epilepsy and their families in northeastern New York\, including more than 4\,000 people who live in Saratoga County. Special guests are professional golfer on the PGA and Web.com tours\, Jeff Klauk\,and the 2012 RE/MAX World long Drive Champion\, Eric Lastowka. The day ends with an Awards Dinner at Wolferts Roost. EFNENY services include education and training of school personnel and students\, public education and awareness\, service coordination\, advocacy\, counseling and first aid training.
X-ALT-DESC;FMTTYPE=text/html:More than 200 participants will compete on two (Wolferts Roost C.C. and Shaker Ridge C.C.)of the finest and most challenging golf courses in the Capital Region to benefit the Epilepsy Foundation of NENY. EFNENY offers programs and services at no cost to an estimated 45\,000 people with epilepsy and their families in northeastern New York\, including more than 4\,000 people who live in Saratoga County. Special guests are professional golfer on the PGA and Web.com tours\, Jeff Klauk\,and the 2012 RE/MAX World long Drive Champion\, Eric Lastowka. The day ends with an Awards Dinner at Wolferts Roost. EFNENY services include education and training of school personnel and students\, public education and awareness\, service coordination\, advocacy\, counseling and first aid training.
LOCATION:Wolferts Roost C.C. and Shaker Ridge C.C. (Albany)
UID:e.2254.12360
SEQUENCE:3
DTSTAMP:20260423T005901Z
URL:https://chamber.saratoga.org/events/details/5th-annual-jake-straughter-memorial-golf-tournament-for-epilepsy-09-28-2015-12360
END:VEVENT

END:VCALENDAR
