BEGIN:VCALENDAR
VERSION:2.0
PRODID:-//ChamberMaster//Event Calendar 2.0//EN
METHOD:PUBLISH
X-PUBLISHED-TTL:P3D
REFRESH-INTERVAL:P3D
CALSCALE:GREGORIAN
BEGIN:VEVENT
DTSTART:20140906T103000Z
DTEND:20140906T140000Z
X-MICROSOFT-CDO-ALLDAYEVENT:FALSE
SUMMARY:5K Run for the Horses - 09/06/2014
DESCRIPTION:5K Run/Walk for the Horses at Saratoga State Park5th Annual Run/Walk for the Horses \n& Kids Fun Run Saturday\, September 6\, 2014\nSaratoga Springs\, NY Saratoga Spa State Park\, Orenda Pavilion\nThe certified 5k course\, which begins at the Orenda Pavilion at Saratoga State Park\, will wind its way throughout the beautiful park.  Post time will be at 8:30 a.m. There will be refreshments\, and prizes in all race/walk divisions. Pre-race registration for the event is $20. Race day registration is $25.
X-ALT-DESC;FMTTYPE=text/html:<p>5K Run/Walk for the Horses at Saratoga State Park</p><h2 style="text-align: center\;"><span style="font-family: Arial\;">5th Annual Run/Walk for the Horses <br>&amp\; Kids Fun Run</span><span style="font-family: Arial\;">&nbsp\;</span></h2><h2 style="text-align: center\;"><span style="font-family: Arial\;">Saturday\, September 6\, 2014<br></span></h2><h2 style="text-align: center\;"><span style="font-family: Arial\;">Saratoga Springs\, NY </span></h2><h2 style="text-align: center\;"><span style="font-family: Arial\;">Saratoga Spa State Park\, Orenda Pavilion<br></span></h2><h2 style="text-align: center\;"></h2><p>The certified 5k course\, which begins at the Orenda Pavilion at Saratoga State Park\, will wind its way throughout the beautiful park.&nbsp\; Post time will be at 8:30 a.m. There will be refreshments\, and prizes in all race/walk divisions. Pre-race registration for the event is $20. Race day registration is $25.</p>
LOCATION:Saratoga State Park
UID:e.2254.3257
SEQUENCE:3
DTSTAMP:20260424T110849Z
URL:https://chamber.saratoga.org/events/details/5k-run-for-the-horses-09-06-2014-09-06-2014-3257
END:VEVENT

END:VCALENDAR
