BEGIN:VCALENDAR
VERSION:2.0
PRODID:-//ChamberMaster//Event Calendar 2.0//EN
METHOD:PUBLISH
X-PUBLISHED-TTL:P3D
REFRESH-INTERVAL:P3D
CALSCALE:GREGORIAN
BEGIN:VEVENT
DTSTART:20160507T160000Z
DTEND:20160507T190000Z
X-MICROSOFT-CDO-ALLDAYEVENT:FALSE
SUMMARY:518 BREAK Grand Opening
DESCRIPTION:Welcome to 518 BREAK's grand opening as the only breakdance studio in the capital region. Come and enjoy a fun eventful day learning some new moves and meeting the instructors of 518 BREAK. There will be food\, drinks\, and a live performance every hour for all your friends and family. Sign up for early registration and receive 20% off summer classes and camps!!
X-ALT-DESC;FMTTYPE=text/html:Welcome to 518 BREAK&#39\;s grand opening as the only breakdance studio in the capital region. Come and enjoy a fun eventful day learning some new moves and meeting the instructors of 518 BREAK. There will be food\, drinks\, and a live performance every hour for all your friends and family. Sign up for early registration and receive 20% off summer classes and camps!!&nbsp\;
LOCATION:1 Barney Road\, Clifton Park NY 12065 suite 124
UID:e.2254.16677
SEQUENCE:3
DTSTAMP:20260421T180827Z
URL:https://chamber.saratoga.org/events/details/518-break-grand-opening-05-07-2016-16677
END:VEVENT

END:VCALENDAR
