BEGIN:VCALENDAR
VERSION:2.0
PRODID:-//ChamberMaster//Event Calendar 2.0//EN
METHOD:PUBLISH
X-PUBLISHED-TTL:P3D
REFRESH-INTERVAL:P3D
CALSCALE:GREGORIAN
BEGIN:VEVENT
DTSTART:20150826T233000Z
DTEND:20150827T030000Z
X-MICROSOFT-CDO-ALLDAYEVENT:FALSE
SUMMARY:5 Seconds of Summer: Rock Out With Your Socks Out Tour
DESCRIPTION:5 Secondswww.livenation.com of Summer with Hey Violet\n\nwww.livenation.com
X-ALT-DESC;FMTTYPE=text/html:5 Secondswww.livenation.com of Summer with Hey Violet<br />\nwww.livenation.com
LOCATION:Saratoga Performing Arts Center 108 Avenue of the Pines Saratoga Springs NY 12866
UID:e.2254.8726
SEQUENCE:3
DTSTAMP:20260423T024206Z
URL:https://chamber.saratoga.org/events/details/5-seconds-of-summer-rock-out-with-your-socks-out-tour-08-26-2015-8726
END:VEVENT

END:VCALENDAR
