BEGIN:VCALENDAR
VERSION:2.0
PRODID:-//ChamberMaster//Event Calendar 2.0//EN
METHOD:PUBLISH
X-PUBLISHED-TTL:P3D
REFRESH-INTERVAL:P3D
CALSCALE:GREGORIAN
BEGIN:VEVENT
DTSTART:20160803T223000Z
DTEND:20160804T013000Z
X-MICROSOFT-CDO-ALLDAYEVENT:FALSE
SUMMARY:5 Course Wine Tasting Dinner
DESCRIPTION:Join us for a memorable evening\, as Chef Lauren Bonelli and her team skillfully prepare 5 exceptional courses\, paired perfectly with excellent wine choices selected from our new wine list. Joe Armstrong of Winebow will briefly introduce each new wine\, sharing information about the vineyards and and interesting facts. Chef Bonelli's passion for serving outstanding cuisine paired with some amazing Italian and Californian wines\, are sure to result in a remarkable dining experience that you won't want to miss. Salute & Buon Appetito!
X-ALT-DESC;FMTTYPE=text/html:Join us for a memorable evening\, as Chef Lauren Bonelli and her team skillfully prepare 5 exceptional courses\, paired perfectly with excellent wine choices selected from our new wine list. Joe Armstrong of Winebow will briefly introduce each new wine\, sharing information about the vineyards and and interesting facts. Chef Bonelli&rsquo\;s passion for serving outstanding cuisine paired with some amazing Italian and Californian wines\, are sure to result in a remarkable dining experience that you won&#39\;t want to miss. Salute &amp\; Buon Appetito!
LOCATION:Campagna Restaurant 2452 State Route 9 Malta\, NY 12020
UID:e.2254.17066
SEQUENCE:3
DTSTAMP:20260421T002212Z
URL:https://chamber.saratoga.org/events/details/5-course-wine-tasting-dinner-08-03-2016-17066
END:VEVENT

END:VCALENDAR
