BEGIN:VCALENDAR
VERSION:2.0
PRODID:-//ChamberMaster//Event Calendar 2.0//EN
METHOD:PUBLISH
X-PUBLISHED-TTL:P3D
REFRESH-INTERVAL:P3D
CALSCALE:GREGORIAN
BEGIN:VEVENT
DTSTART:20161126T150000Z
DTEND:20161126T213000Z
X-MICROSOFT-CDO-ALLDAYEVENT:FALSE
SUMMARY:41st Craft Marketplace
DESCRIPTION:The annual event features over 100 selected artisans showcasing their hand-made artwork. Some crafts include jewelry\, paintings\, children's toys\, blown glass\, pottery\, holiday ornamentations\, edibles\, clothing and one of a kind specialties.
X-ALT-DESC;FMTTYPE=text/html:The annual event features over 100 selected artisans showcasing their hand-made artwork. Some crafts include jewelry\, paintings\, children&#39\;s toys\, blown glass\, pottery\, holiday ornamentations\, edibles\, clothing and one of a kind specialties.
LOCATION:Saratoga City Center
UID:e.2254.19536
SEQUENCE:3
DTSTAMP:20260420T201538Z
URL:https://chamber.saratoga.org/events/details/41st-craft-marketplace-19536
END:VEVENT

END:VCALENDAR
