BEGIN:VCALENDAR
VERSION:2.0
PRODID:-//ChamberMaster//Event Calendar 2.0//EN
METHOD:PUBLISH
X-PUBLISHED-TTL:P3D
REFRESH-INTERVAL:P3D
CALSCALE:GREGORIAN
BEGIN:VEVENT
DTSTART:20140720T120000Z
DTEND:20140720T210000Z
X-MICROSOFT-CDO-ALLDAYEVENT:FALSE
SUMMARY:3rd Annual FUN Day at the Great Escape - 07/20/2014
DESCRIPTION:Join us for our 3rd Annual FUN Day at the Great Escape!Sunday\, July 20    10 AM $35 per person includes parking\, park admission\, all-you-can-eat lunch buffet and all-day fountain soft drinks. Season pass holders pay only $20. Tickets are available at all Hudson River Community Credit Union branches. Need not be a member to purchase a ticket. Details at hrccu.org. Save over $75 per ticket!! Come join us for the fun.
X-ALT-DESC;FMTTYPE=text/html:<p>Join us for our 3rd Annual FUN Day at the Great Escape!</p><p><strong>Sunday\, July 20&nbsp\;&nbsp\;&nbsp\; 10 AM</strong> </p><p><strong>$35 per person</strong> includes parking\, park admission\, all-you-can-eat lunch buffet and all-day fountain soft drinks. Season pass holders pay only $20. Tickets are available at all Hudson River Community Credit Union branches. Need not be a member to purchase a ticket. Details at <strong>hrccu.org</strong>. </p><p>Save over $75 per ticket!! Come join us for the fun. </p>
LOCATION:Great Escape and Splashwater Kingdom
UID:e.2254.3366
SEQUENCE:3
DTSTAMP:20260424T222411Z
URL:https://chamber.saratoga.org/events/details/3rd-annual-fun-day-at-the-great-escape-07-20-2014-07-20-2014-3366
END:VEVENT

END:VCALENDAR
