BEGIN:VCALENDAR
VERSION:2.0
PRODID:-//ChamberMaster//Event Calendar 2.0//EN
METHOD:PUBLISH
X-PUBLISHED-TTL:P3D
REFRESH-INTERVAL:P3D
CALSCALE:GREGORIAN
BEGIN:VEVENT
DTSTART:20140720T120000Z
DTEND:20140720T220000Z
X-MICROSOFT-CDO-ALLDAYEVENT:FALSE
SUMMARY:3rd Annual FUN Day - 07/20/2014
DESCRIPTION:Fun Day at the Great Escape Price includes admission\, parking\, all-you-can-eat buffet lunch and all day soft drinks. A savings of over $70! Season pass holders can purchase parking\, lunch and soft drinks for only $20. Tickets are now on sale at all HRCCU branches.
X-ALT-DESC;FMTTYPE=text/html:<p>Fun Day at the Great Escape </p><p>Price includes admission\, parking\, all-you-can-eat buffet lunch and all day soft drinks. A savings of over $70! Season pass holders can purchase parking\, lunch and soft drinks for only $20. Tickets are now on sale at all HRCCU branches. </p>
LOCATION:Six Flags Great Escape
UID:e.2254.3320
SEQUENCE:3
DTSTAMP:20260424T175751Z
URL:https://chamber.saratoga.org/events/details/3rd-annual-fun-day-07-20-2014-07-20-2014-3320
END:VEVENT

END:VCALENDAR
