BEGIN:VCALENDAR
VERSION:2.0
PRODID:-//ChamberMaster//Event Calendar 2.0//EN
METHOD:PUBLISH
X-PUBLISHED-TTL:P3D
REFRESH-INTERVAL:P3D
CALSCALE:GREGORIAN
BEGIN:VEVENT
DTSTART:20160927T160000Z
DTEND:20160927T170000Z
X-MICROSOFT-CDO-ALLDAYEVENT:FALSE
SUMMARY:30 Years of Community Arts
DESCRIPTION:Learn about Saratoga Arts' thirty-year history of making the arts accessible\, followed by a tour of the 30th Anniversary Invitational\, a retrospective exhibition in The Arts Center Gallery. Bring your lunch\; beverages and dessert provided.
X-ALT-DESC;FMTTYPE=text/html:Learn about Saratoga Arts&#39\; thirty-year history of making the arts accessible\, followed by a tour of the 30th Anniversary Invitational\, a retrospective exhibition in The Arts Center Gallery. Bring your lunch\; beverages and dessert provided.
LOCATION:The Arts Center 320 Broadway Saratoga Springs
UID:e.2254.19467
SEQUENCE:3
DTSTAMP:20260421T021253Z
URL:https://chamber.saratoga.org/events/details/30-years-of-community-arts-19467
END:VEVENT

END:VCALENDAR
