BEGIN:VCALENDAR
VERSION:2.0
PRODID:-//ChamberMaster//Event Calendar 2.0//EN
METHOD:PUBLISH
X-PUBLISHED-TTL:P3D
REFRESH-INTERVAL:P3D
CALSCALE:GREGORIAN
BEGIN:VEVENT
DTSTART:20160207T230000Z
DTEND:20160208T040000Z
X-MICROSOFT-CDO-ALLDAYEVENT:FALSE
SUMMARY:2nd Annual Saratoga Center Super Bowl Party
DESCRIPTION:Family members\, friends\, and staff are all invited to join this 2nd Annual Saratoga Center Super Bowl Party for what promises to be a great game. Pizza\, wings\, and other food and beverages will be provided.  We will also be raffling off a flat screen TV to each person who attends our party. You will receive a free entry into the contest and a winner will be selected during the event.
X-ALT-DESC;FMTTYPE=text/html:Family members\, friends\, and staff are all invited to join this 2nd Annual Saratoga Center Super Bowl Party for what promises to be a great game. Pizza\, wings\, and other food and beverages will be provided.&nbsp\; We will also be raffling off a flat screen TV to each person who attends our party. You will receive a free entry into the contest and a winner will be selected during the event.
LOCATION:Saratoga Center for Rehab and Skilled Nursing Care
UID:e.2254.14427
SEQUENCE:3
DTSTAMP:20260422T022744Z
URL:https://chamber.saratoga.org/events/details/2nd-annual-saratoga-center-super-bowl-party-02-07-2016-14427
END:VEVENT

END:VCALENDAR
