BEGIN:VCALENDAR
VERSION:2.0
PRODID:-//ChamberMaster//Event Calendar 2.0//EN
METHOD:PUBLISH
X-PUBLISHED-TTL:P3D
REFRESH-INTERVAL:P3D
CALSCALE:GREGORIAN
BEGIN:VEVENT
DTSTART:20150328T203000Z
DTEND:20150329T013000Z
X-MICROSOFT-CDO-ALLDAYEVENT:FALSE
SUMMARY:2nd Annual Monopoly Tournament
DESCRIPTION:2nd Annual Monopoly Tournament\n\nTo benefit the Visiting Nurse Service Foundation\n\nSaturday\, March 28th\, 2014\n\nThe Holiday Inn   232 Broadway Saratoga Springs\n\n4:30PM-9:30pm\n\nEnter our tournament to win the top prize of $500 cash!!!\n\nPrizes and silent auction with unique sports and racing memorabilia.\n\nFor more information or to register call   382-8050 ext 245
X-ALT-DESC;FMTTYPE=text/html:<span style="font-size: medium\;"><span style="font-family: calibri\;">2<sup><span style="font-size: small\;">nd</span></sup> Annual Monopoly Tournament</span></span><br />\n<span style="font-size: medium\;"><span style="font-family: calibri\;">To benefit the Visiting Nurse Service Foundation</span></span><br />\n<span style="font-size: medium\;"><span style="font-family: calibri\;">Saturday\, March 28<sup><span style="font-size: small\;">th</span></sup>\, 2014</span></span><br />\n<span style="font-size: medium\;"><span style="font-family: calibri\;">The Holiday Inn &ndash\; 232 Broadway Saratoga Springs</span></span><br />\n<span style="font-size: medium\;"><span style="font-family: calibri\;">4:30PM-9:30pm</span></span><br />\n<span style="font-size: medium\;"><span style="font-family: calibri\;">Enter our tournament to win the top prize of $500 cash!!!</span></span><br />\n<span style="font-size: medium\;"><span style="font-family: calibri\;">Prizes and silent auction with unique sports and racing memorabilia.</span></span><br />\n<span style="font-size: medium\;"><span style="font-family: calibri\;">For more information or to register call &ndash\; 382-8050 ext 245</span></span><br />\n&nbsp\;
LOCATION:The Holiday Inn 232 Broadway Saratoga Springs 12866
UID:e.2254.4970
SEQUENCE:3
DTSTAMP:20260423T214148Z
URL:https://chamber.saratoga.org/events/details/2nd-annual-monopoly-tournament-03-28-2015-4970
END:VEVENT

END:VCALENDAR
