BEGIN:VCALENDAR
VERSION:2.0
PRODID:-//ChamberMaster//Event Calendar 2.0//EN
METHOD:PUBLISH
X-PUBLISHED-TTL:P3D
REFRESH-INTERVAL:P3D
CALSCALE:GREGORIAN
BEGIN:VEVENT
DTSTART:20150506T210000Z
DTEND:20150507T010000Z
X-MICROSOFT-CDO-ALLDAYEVENT:FALSE
SUMMARY:26th Annual May Day Spring Fling
DESCRIPTION:Saratoga County Economic Opportunity Councils 26th Annual May Day Spring Fling dinner and auction will be held on Tuesday\, May 6\, 2015 at the Canfield Casino in Saratoga Springs. This fun evening includes dinner and complimentary drinks provided by Longfellows Restaurant\, Hotel and Conference Center and The Olde Bryan Inn\, as well as silent and live auctions with Chris Ward of Bidforyourbenefit Auction Company. This is the major fundraising event for the Saratoga County EOC. EOC is a not for profit organization that has helped income eligible residents of Saratoga County since 1965. Reservations are $80 per person with various sponsorship levels. Reservations for the event are limited. For more information contact 518-288-3206 or info@saratogaeoc.org.
X-ALT-DESC;FMTTYPE=text/html:<p style="margin: 0in 0in 0pt\;"><font color="#000000" face="Calibri" size="3">Saratoga County Economic Opportunity Councils 26th Annual May Day Spring Fling dinner and auction will be held on Tuesday\, May 6\, 2015 at the Canfield Casino in Saratoga Springs. This fun evening includes dinner and complimentary drinks provided by Longfellows Restaurant\, Hotel and Conference Center and The Olde Bryan Inn\, as well as silent and live auctions with Chris Ward of Bidforyourbenefit Auction Company. This is the major fundraising event for the Saratoga County EOC. EOC is a not for profit organization that has helped income eligible residents of Saratoga County since 1965. Reservations are $80 per person with various sponsorship levels. Reservations for the event are limited. For more information contact 518-288-3206 or </font><a href="mailto:info@saratogaeoc.org"><font color="#0000ff" face="Calibri" size="3">info@saratogaeoc.org</font></a><font color="#000000" face="Calibri" size="3">.</font></p>\n\n<p style="margin: 0in 0in 0pt\;"><font color="#000000" face="Calibri" size="3">&nbsp\;</font></p>\n\n<p style="margin: 0in 0in 0pt\;">&nbsp\;</p>\n
LOCATION:Canfield Casino Congress Park\, Saratoga Springs\, NY
UID:e.2254.1031
SEQUENCE:3
DTSTAMP:20260423T170806Z
URL:https://chamber.saratoga.org/events/details/26th-annual-may-day-spring-fling-05-06-2015-1031
END:VEVENT

END:VCALENDAR
