BEGIN:VCALENDAR
VERSION:2.0
PRODID:-//ChamberMaster//Event Calendar 2.0//EN
METHOD:PUBLISH
X-PUBLISHED-TTL:P3D
REFRESH-INTERVAL:P3D
CALSCALE:GREGORIAN
BEGIN:VEVENT
DTSTART:20170130T230000Z
DTEND:20170131T000000Z
X-MICROSOFT-CDO-ALLDAYEVENT:FALSE
SUMMARY:2017 State of the City Address
DESCRIPTION:Mayor Joanne D. Yepsen will deliver her fourth State of the City Address\, highlighting the city's accomplishments over the last year and presenting her vision for 2017. A few of the topics the Mayor will speak about are sustainable smart growth\, economic development initiatives and affordable housing programs.
X-ALT-DESC;FMTTYPE=text/html:Mayor Joanne D. Yepsen will deliver her fourth State of the City Address\, highlighting the city&#39\;s accomplishments over the last year and presenting her vision for 2017. A few of the topics the Mayor will speak about are sustainable smart growth\, economic development initiatives and affordable housing programs.
LOCATION:Saratoga Springs City Center
UID:e.2254.22414
SEQUENCE:3
DTSTAMP:20260420T153141Z
URL:https://chamber.saratoga.org/events/details/2017-state-of-the-city-address-22414
END:VEVENT

END:VCALENDAR
