BEGIN:VCALENDAR
VERSION:2.0
PRODID:-//ChamberMaster//Event Calendar 2.0//EN
METHOD:PUBLISH
X-PUBLISHED-TTL:P3D
REFRESH-INTERVAL:P3D
CALSCALE:GREGORIAN
BEGIN:VEVENT
DTSTART:20160929T223000Z
DTEND:20160930T013000Z
X-MICROSOFT-CDO-ALLDAYEVENT:FALSE
SUMMARY:2016 TRASK Art Show & Sale
DESCRIPTION:Join the Saratoga Springs Preservation Foundation on Thursday\, September 29\, 2016 for an evening of hors d'oeuvres\, drinks\, and artwork at the Canfield Casino. Call for entries begins on Tuesday\, July 12\, 2016 and ends on Tuesday\, September 13\, 2016. Visit www.saratogapreservation.org for additional information.
X-ALT-DESC;FMTTYPE=text/html:Join the Saratoga Springs Preservation Foundation on Thursday\, September 29\, 2016 for an evening of hors d&#39\;oeuvres\, drinks\, and artwork at the Canfield Casino. Call for entries begins on Tuesday\, July 12\, 2016 and ends on Tuesday\, September 13\, 2016. Visit www.saratogapreservation.org for additional information.
LOCATION:Canfield Casino\, Saratoga Springs\, NY
UID:e.2254.15019
SEQUENCE:3
DTSTAMP:20260421T010811Z
URL:https://chamber.saratoga.org/events/details/2016-trask-art-show-sale-09-29-2016-15019
END:VEVENT

END:VCALENDAR
