BEGIN:VCALENDAR
VERSION:2.0
PRODID:-//ChamberMaster//Event Calendar 2.0//EN
METHOD:PUBLISH
X-PUBLISHED-TTL:P3D
REFRESH-INTERVAL:P3D
CALSCALE:GREGORIAN
BEGIN:VEVENT
DTSTART:20160224T230000Z
DTEND:20160225T020000Z
X-MICROSOFT-CDO-ALLDAYEVENT:FALSE
SUMMARY:2016 MBPA Annual Dinner & 30th Anniversary Celebration
DESCRIPTION:The Malta Business and Professional Association Cordially invites you to attend their 2016 Annual Association Dinner & 30th Anniversary Celebration Cocktails 6:00 - 7:00 pm Dinner 7:00 - 8:00 pm Program Begins at 8:00 pm Join us for a fun-filled\, light-hearted evening celebrating MBPA's 30th Anniversary with Kelly Newton\, Fine Wine Manager and Certified Educator\, from Empire Merchants North. She'll help us learn about wines AND play a wine game for prizes! $65 Pre-Registered Guests\; $75 Walk-Ins (Reservations Recommended) For reservations please visit www.MaltaBPA.com or email MaltaBPA@gmail.com
X-ALT-DESC;FMTTYPE=text/html:The Malta Business and Professional Association Cordially invites you to attend their 2016 Annual Association Dinner &amp\; 30th Anniversary Celebration Cocktails 6:00 - 7:00 pm Dinner 7:00 - 8:00 pm Program Begins at 8:00 pm Join us for a fun-filled\, light-hearted evening celebrating MBPA&#39\;s 30th Anniversary with Kelly Newton\, Fine Wine Manager and Certified Educator\, from Empire Merchants North. She&#39\;ll help us learn about wines AND play a wine game for prizes! $65 Pre-Registered Guests\; $75 Walk-Ins (Reservations Recommended) For reservations please visit www.MaltaBPA.com or email MaltaBPA@gmail.com
LOCATION:Panza's Restaurant
UID:e.2254.14884
SEQUENCE:3
DTSTAMP:20260422T022504Z
URL:https://chamber.saratoga.org/events/details/2016-mbpa-annual-dinner-30th-anniversary-celebration-02-24-2016-14884
END:VEVENT

END:VCALENDAR
