BEGIN:VCALENDAR
VERSION:2.0
PRODID:-//ChamberMaster//Event Calendar 2.0//EN
METHOD:PUBLISH
X-PUBLISHED-TTL:P3D
REFRESH-INTERVAL:P3D
CALSCALE:GREGORIAN
BEGIN:VEVENT
DTSTART:20160621T114500Z
DTEND:20160621T200000Z
X-MICROSOFT-CDO-ALLDAYEVENT:FALSE
SUMMARY:2016 Labor\, Employment & HR Conference
DESCRIPTION:The legal and practical issues that employers face have become increasingly complex. Employers need to know the steps they can take to avoid\, or at least minimize\, the liability associated with their human resource decisions and comply with regulatory requirements. Mindful of this need\, we have developed a full-day agenda covering a range of topics. So you can hear about what interests you most\, you will have a choice of breakout sessions to choose from. This annual conference is well attended and highly regarded ? join us this year.
X-ALT-DESC;FMTTYPE=text/html:The legal and practical issues that employers face have become increasingly complex. Employers need to know the steps they can take to avoid\, or at least minimize\, the liability associated with their human resource decisions and comply with regulatory requirements. Mindful of this need\, we have developed a full-day agenda covering a range of topics. So you can hear about what interests you most\, you will have a choice of breakout sessions to choose from. This annual conference is well attended and highly regarded ? join us this year.
LOCATION:Saratoga City Center
UID:e.2254.16409
SEQUENCE:3
DTSTAMP:20260421T080539Z
URL:https://chamber.saratoga.org/events/details/2016-labor-employment-hr-conference-06-21-2016-16409
END:VEVENT

END:VCALENDAR
