BEGIN:VCALENDAR
VERSION:2.0
PRODID:-//ChamberMaster//Event Calendar 2.0//EN
METHOD:PUBLISH
X-PUBLISHED-TTL:P3D
REFRESH-INTERVAL:P3D
CALSCALE:GREGORIAN
BEGIN:VEVENT
DTSTART:20150515T123000Z
DTEND:20150515T190000Z
X-MICROSOFT-CDO-ALLDAYEVENT:FALSE
SUMMARY:2015 Spring Auto Show- Collection Tour to Alan Rosenblum's
DESCRIPTION:As part of the Saratoga Automobile Museum's Spring Auto Show weekend\, we are offering an opportunity to go on a road trip to the Utica area to visit one of the most significant automobile collections in New York.  You will see over 60 rare automobiles\, featuring such marks as Bugatti\, Lamborghini\, Bizzarrini\, Duesenberg\, Bentley\, Mercedes\, and others.  Upon arrival\, we will enjoy a private tour of Alan's collection\, followed by a sumptuous luncheon at one of the area's most renowned BBQ restaurants.
X-ALT-DESC;FMTTYPE=text/html:<h1><span style="font-size: 12pt\;">As part of the Saratoga Automobile Museum&rsquo\;s Spring Auto Show weekend\, we are offering an opportunity to go on a road trip to the Utica area to visit one of the most significant automobile collections in New York.&nbsp\; You will see over 60 rare automobiles\, featuring such marks as Bugatti\, Lamborghini\, Bizzarrini\, Duesenberg\, Bentley\, Mercedes\, and others.&nbsp\; Upon arrival\, we will enjoy a private tour of Alan&rsquo\;s collection\, followed by a sumptuous luncheon at one of the area&rsquo\;s most renowned BBQ restaurants.</span></h1>\n
LOCATION:Saratoga Auto Museum\, 110 Avenue of the Pines
UID:e.2254.6652
SEQUENCE:3
DTSTAMP:20260423T164203Z
URL:https://chamber.saratoga.org/events/details/2015-spring-auto-show-collection-tour-to-alan-rosenblum-s-05-15-2015-6652
END:VEVENT

END:VCALENDAR
