BEGIN:VCALENDAR
VERSION:2.0
PRODID:-//ChamberMaster//Event Calendar 2.0//EN
METHOD:PUBLISH
X-PUBLISHED-TTL:P3D
REFRESH-INTERVAL:P3D
CALSCALE:GREGORIAN
BEGIN:VEVENT
DTSTART;VALUE=DATE:20150919
DTEND;VALUE=DATE:20151005
TRANSP:TRANSPARENT
X-MICROSOFT-CDO-ALLDAYEVENT:TRUE
SUMMARY:2015 Saratoga Showcase of Homes
DESCRIPTION:Visit 12 beautiful houses in Saratoga County from our region's award-winning builders. The area's premiere new home tour celebrates its 20th anniversary over three spectacular fall weekends. Proceeds benefit Rebuilding Together Saratoga and Habitat for Humanity.
X-ALT-DESC;FMTTYPE=text/html:Visit 12 beautiful houses in Saratoga County from our region&#39\;s award-winning builders. The area&#39\;s premiere new home tour celebrates its 20th anniversary over three spectacular fall weekends. Proceeds benefit Rebuilding Together Saratoga and Habitat for Humanity.
LOCATION:12 locations in Saratoga County
UID:e.2254.12363
SEQUENCE:3
DTSTAMP:20260422T160054Z
URL:https://chamber.saratoga.org/events/details/2015-saratoga-showcase-of-homes-09-19-2015-12363
END:VEVENT

END:VCALENDAR
