BEGIN:VCALENDAR
VERSION:2.0
PRODID:-//ChamberMaster//Event Calendar 2.0//EN
METHOD:PUBLISH
X-PUBLISHED-TTL:P3D
REFRESH-INTERVAL:P3D
CALSCALE:GREGORIAN
BEGIN:VEVENT
DTSTART:20151001T193000Z
DTEND:20151001T230000Z
X-MICROSOFT-CDO-ALLDAYEVENT:FALSE
SUMMARY:2015 Saratoga County Chamber Business-to-Business Expo presented by Ianniello Anderson P.C. Attorneys at Law
DESCRIPTION:Exhibit space at the 2015 Saratoga County Business-to-Business Expo is SOLD OUT! If you are interested in attending as a member of the general public\, admission is as follows: Chamber members get in free\, non-members with a business card get in for $5 and the general public admission is $10. With 146 vendors and 2000+ members from the business community\, there is no better opportunity in the Capital District to build your business relationships.\n\n\n\nThere will be various activities going on throughout the floor\, 12 restaurants serving food and door prizes given out. Doors open for members at 3:30 and vendors at 5 p.m. Show runs until 7. Be sure to make your calendar and help continue making this the largest business-to-business networking event of the year!\n\n\n\nTo view the vendor map\, click here .
X-ALT-DESC;FMTTYPE=text/html:<div style="color: rgb(0\, 0\, 0)\; font-family: Georgia\, 'Times New Roman'\, Times\, serif\; font-size: 13.3333330154419px\; line-height: normal\;">Exhibit space at the 2015 Saratoga County Business-to-Business Expo is SOLD OUT! If you are interested in attending as a member of the general public\, admission is as follows: Chamber members get in free\, non-members with a business card get in for $5 and the general public admission is $10.&nbsp\;With 146 vendors and 2000+ members from the business community\, there is no better opportunity in the Capital District to build your business relationships.<br />\n<br />\nThere will be various activities going on throughout the floor\, 12 restaurants serving food and door prizes given out. Doors open for members at 3:30 and vendors at 5 p.m. Show runs until 7. Be sure to make your calendar and help continue making this the largest business-to-business networking event of the year!<br />\n<br />\nTo view the vendor map\, <a href="http://cloud.chambermaster.com/userfiles/UserFiles/chambers/2254/File/2015FinalFloorPlan.pdf">click here</a> .</div>\n
LOCATION:Saratoga Springs City Center 522 Broadway Saratoga Springs
UID:e.2254.8738
SEQUENCE:3
DTSTAMP:20260422T160338Z
URL:https://chamber.saratoga.org/events/details/2015-saratoga-county-chamber-business-to-business-expo-presented-by-ianniello-anderson-p-c-attorneys-at-law-10-01-2015-8738
END:VEVENT

END:VCALENDAR
