BEGIN:VCALENDAR
VERSION:2.0
PRODID:-//ChamberMaster//Event Calendar 2.0//EN
METHOD:PUBLISH
X-PUBLISHED-TTL:P3D
REFRESH-INTERVAL:P3D
CALSCALE:GREGORIAN
BEGIN:VEVENT
DTSTART:20150516T140000Z
DTEND:20150516T200000Z
X-MICROSOFT-CDO-ALLDAYEVENT:FALSE
SUMMARY:2015 Saratoga Automobile Museum's Spring Auto Show
DESCRIPTION:Spring Autoshow: May 16\, 2015\n\n\n\nThis year we'll feature all British Marques\, Racecars\, PreWar II Autos\, & Motorcylces around the reflecting pool. \n\n  games & activities for the kids\n\n  driving simulators\n\n  antique car photo op\n\n  win a family membership\n\n  kids choice judging
X-ALT-DESC;FMTTYPE=text/html:Spring Autoshow: May 16\, 2015<br />\n<br />\nThis year we&#39\;ll feature all British Marques\, Racecars\, PreWar II Autos\, &amp\; Motorcylces around the reflecting pool.&nbsp\;<br />\n&bull\; games &amp\; activities for the kids<br />\n&bull\; driving simulators<br />\n&bull\; antique car photo op<br />\n&bull\; win a family membership<br />\n&bull\; kids choice judging
LOCATION:Saratoga Automobile Museum
UID:e.2254.4796
SEQUENCE:3
DTSTAMP:20260423T170951Z
URL:https://chamber.saratoga.org/events/details/2015-saratoga-automobile-museum-s-spring-auto-show-05-16-2015-4796
END:VEVENT

END:VCALENDAR
