BEGIN:VCALENDAR
VERSION:2.0
PRODID:-//ChamberMaster//Event Calendar 2.0//EN
METHOD:PUBLISH
X-PUBLISHED-TTL:P3D
REFRESH-INTERVAL:P3D
CALSCALE:GREGORIAN
BEGIN:VEVENT
DTSTART:20150515T123000Z
DTEND:20150515T183000Z
X-MICROSOFT-CDO-ALLDAYEVENT:FALSE
SUMMARY:2015 Saratoga Automobile Museum's Spring Auto Show
DESCRIPTION:2015 Spring Auto Show - Collection Tour to Alan Rosenblum's\n\n \n\nAs part of the Saratoga Automobile Museum's Spring Auto Show weekend\, we are offering an opportunity to go on a road trip to the Utica area to visit one of the most significant automobile collections in New York.  You will see over 60 rare automobiles\, featuring such marks as Bugatti\, Lamborghini\, Bizzarrini\, Duesenberg\, Bentley\, Mercedes\, and others.  Upon arrival\, we will enjoy a private tour of Alan's collection\, followed by a sumptuous luncheon at one of the area's most renowned BBQ restaurants.\n\n\n\nPLEASE NOTE:  This is a rare opportunity to see a major private automobile collection.  Tickets are limited and will sell out quickly\, so we encourage you to sign up early.
X-ALT-DESC;FMTTYPE=text/html:2015 Spring Auto Show - Collection Tour to Alan Rosenblum&#39\;s<br />\n&#8203\;<br />\nAs part of the Saratoga Automobile Museum&rsquo\;s Spring Auto Show weekend\, we are offering an opportunity to go on a road trip to the Utica area to visit one of the most significant automobile collections in New York. &nbsp\;You will see over 60 rare automobiles\, featuring such marks as Bugatti\, Lamborghini\, Bizzarrini\, Duesenberg\, Bentley\, Mercedes\, and others. &nbsp\;Upon arrival\, we will enjoy a private tour of Alan&rsquo\;s collection\, followed by a sumptuous luncheon at one of the area&rsquo\;s most renowned BBQ restaurants.<br />\n<br />\nPLEASE NOTE: &nbsp\;This is a rare opportunity to see a major private automobile collection. &nbsp\;Tickets are limited and will sell out quickly\, so we encourage you to sign up early.
LOCATION:Saratoga Automobile Museum
UID:e.2254.6077
SEQUENCE:3
DTSTAMP:20260423T170951Z
URL:https://chamber.saratoga.org/events/details/2015-saratoga-automobile-museum-s-spring-auto-show-05-15-2015-6077
END:VEVENT

END:VCALENDAR
