BEGIN:VCALENDAR
VERSION:2.0
PRODID:-//ChamberMaster//Event Calendar 2.0//EN
METHOD:PUBLISH
X-PUBLISHED-TTL:P3D
REFRESH-INTERVAL:P3D
CALSCALE:GREGORIAN
BEGIN:VEVENT
DTSTART:20151112T153000Z
DTEND:20151112T200000Z
X-MICROSOFT-CDO-ALLDAYEVENT:FALSE
SUMMARY:2015 LRANY Annual Meeting
DESCRIPTION:Join the Lawsuit Reform Alliance of New York for our second Annual Meeting! This exciting day will include morning educational seminars\, a luncheon with special keynote speech from renowned author and lawyer Philip K. Howard\, updates on our work fighting lawsuit abuse from LRANY's Executive Director\, and panel discussion with industry leaders assessing the new opportunities for lawsuit reform after the fall of the trial lawyers' most powerful ally. 2 CLE (continuing legal education) credits are available for all eligible attorneys attending this event.
X-ALT-DESC;FMTTYPE=text/html:Join the Lawsuit Reform Alliance of New York for our second Annual Meeting! This exciting day will include morning educational seminars\, a luncheon with special keynote speech from renowned author and lawyer Philip K. Howard\, updates on our work fighting lawsuit abuse from LRANY&#39\;s Executive Director\, and panel discussion with industry leaders assessing the new opportunities for lawsuit reform after the fall of the trial lawyers&#39\; most powerful ally. 2 CLE (continuing legal education) credits are available for all eligible attorneys attending this event.
LOCATION:The Gideon Putnam 24 Gideon Putnam Road Saratoga Springs\, New York\, 12866
UID:e.2254.12767
SEQUENCE:3
DTSTAMP:20260422T103420Z
URL:https://chamber.saratoga.org/events/details/2015-lrany-annual-meeting-11-12-2015-12767
END:VEVENT

END:VCALENDAR
