BEGIN:VCALENDAR
VERSION:2.0
PRODID:-//ChamberMaster//Event Calendar 2.0//EN
METHOD:PUBLISH
X-PUBLISHED-TTL:P3D
REFRESH-INTERVAL:P3D
CALSCALE:GREGORIAN
BEGIN:VEVENT
DTSTART:20151105T223000Z
DTEND:20151106T020000Z
X-MICROSOFT-CDO-ALLDAYEVENT:FALSE
SUMMARY:2015 Chili Challenge
DESCRIPTION:Come vote and show your support! Chili recipe categories are Best Overall\, Most Creative\, Zestiest\, Best Vegetarian\, and Best Booth Decorations. We also have kids activities like face painting\, coloring\, music\, and more. Tickets are available in advance and at the door. Children under age 5 attend free of charge\, and we are also offering Military/First Responder discounts at the door with ID. Tickets may be purchased online at our website www.healthykidneys.org.
X-ALT-DESC;FMTTYPE=text/html:Come vote and show your support! Chili recipe categories are Best Overall\, Most Creative\, Zestiest\, Best Vegetarian\, and Best Booth Decorations. We also have kids activities like face painting\, coloring\, music\, and more. Tickets are available in advance and at the door. Children under age 5 attend free of charge\, and we are also offering Military/First Responder discounts at the door with ID. Tickets may be purchased online at our website www.healthykidneys.org.
LOCATION:Excelsior Springs Conference Center 47 Excelsior Ave Saratoga Springs\, NY 12866
UID:e.2254.12780
SEQUENCE:3
DTSTAMP:20260422T102634Z
URL:https://chamber.saratoga.org/events/details/2015-chili-challenge-11-05-2015-12780
END:VEVENT

END:VCALENDAR
