BEGIN:VCALENDAR
VERSION:2.0
PRODID:-//ChamberMaster//Event Calendar 2.0//EN
METHOD:PUBLISH
X-PUBLISHED-TTL:P3D
REFRESH-INTERVAL:P3D
CALSCALE:GREGORIAN
BEGIN:VEVENT
DTSTART:20141002T183000Z
DTEND:20141002T220000Z
X-MICROSOFT-CDO-ALLDAYEVENT:FALSE
SUMMARY:2014 Saratoga County Business-to-Business Expo
DESCRIPTION:Join us and help make this the largest business-to-business networking event in the Capital Region!The Saratoga County Chamber of Commerce will host our 2014 Saratoga County B2B Expo on Thursday\, October 2nd at the Saratoga Springs City Center. You are invited to visit with the 150+ businesses that are located right in your backyard. This year\, the goal is simple. The hope is to make this the largest business-to-business networking event in the Capital Region\, which will result in high quality leads that will be beneficial to long-term success. From health care\, training services\, insurance and companies serving as a community resource\, there is a strong possibility that you will find the products/services that you need.\nSponsorships start at just $500 and can be reviewed here. Investment for a single\, 8x10 booth\, is just $300\; and $600 for a double 8x20. Each exhibitor will receive a complimentary session with Sandler Training\, 9 Common Mistakes at a Trade Show\, an ad in the Saratogian exclusively dedicated to the Expo that is sent out to thousands of people\, a skirted table\, two chairs\, electricity and a company sign. If you are interested in exhibiting\, or looking for more information\, please contact Keith VanVeghten\, kvanveghten@saratoga.org\, or call 584-3255.
X-ALT-DESC;FMTTYPE=text/html:<p>Join us and help make this the largest business-to-business networking event in the Capital Region!</p><p style="text-align: left\;">The Saratoga County Chamber of Commerce will&nbsp\;host our <strong><em><span style="text-decoration: underline\;">2014 Saratoga County B2B Expo</span></em></strong> on Thursday\, October 2nd at the Saratoga Springs City Center. You are invited to visit with the 150+ businesses that are located right in your backyard. This year\, the goal is simple. The hope is to make this the largest business-to-business networking event in the Capital Region\, which will result in high quality leads that will be beneficial to long-term success. From health care\, training services\, insurance and companies serving as a community resource\, there is a strong possibility that you will find the products/services that you need.</p>\n<p style="text-align: left\;">Sponsorships start at just $500 and can be reviewed here. Investment for a single\, 8x10 booth\, is just $300\; and $600 for a double 8x20. Each exhibitor will receive a complimentary session with Sandler Training\, <em>9&nbsp\;Common Mistakes at a Trade Show\,</em>&nbsp\;an ad in the Saratogian exclusively dedicated&nbsp\;to the Expo that is sent out to thousands of people\, a skirted table\, two chairs\, electricity and a company sign. If you are interested in exhibiting\, or looking for more information\, please contact Keith VanVeghten\, <a href="mailto:kvanveghten@saratoga.org">kvanveghten@saratoga.org</a>\, or call 584-3255.</p>
LOCATION:Saratoga Springs City Center
UID:e.2254.195
SEQUENCE:3
DTSTAMP:20260424T111046Z
URL:https://chamber.saratoga.org/events/details/2014-saratoga-county-business-to-business-expo-10-02-2014-195
END:VEVENT

END:VCALENDAR
