BEGIN:VCALENDAR
VERSION:2.0
PRODID:-//ChamberMaster//Event Calendar 2.0//EN
METHOD:PUBLISH
X-PUBLISHED-TTL:P3D
REFRESH-INTERVAL:P3D
CALSCALE:GREGORIAN
BEGIN:VEVENT
DTSTART:20140901T020000Z
DTEND:20140930T020000Z
X-MICROSOFT-CDO-ALLDAYEVENT:FALSE
SUMMARY:2014 Hudson River Valley Ramble Saratoga County Events - 08/31/2014
DESCRIPTION:Come discover the riches our Valley has to offer. \nThe Hudson River Valley Ramble is an annual event series that celebrates the history\, culture and natural resources of the Hudson River Valley National Heritage Area\, as well as the amazing landscape\, communities\, and trails throughout the region.\n \nEvery September\, participation continues to grow. 'Ramblers' come not only from the Hudson Valley region and New York State\, but from other regions of the country as well to discover the riches our Valley has to offer. Whether you are interested in a challenging hike\, bike ride or paddle\, an inspiring walk through the grounds and homes of some of the Valley's most notable artists\, authors\, and Great Americans\, a trip back in time to experience the significant role the region played in the Revolutionary War\, or a family-fun festival or river exploration event\, the Hudson River Valley Ramble truly offers something for everyone!\n \nhttp://bit.ly/1lPultX
X-ALT-DESC;FMTTYPE=text/html:<p>Come discover the riches our Valley has to offer.</p><p>&nbsp\;</p>\n<h3>The Hudson River Valley Ramble is an annual event series that celebrates the history\, culture and natural resources of the Hudson River Valley National Heritage Area\, as well as the amazing landscape\, communities\, and trails throughout the region.</h3>\n<p>&nbsp\;</p>\n<p>Every September\, participation continues to grow. &lsquo\;Ramblers&rsquo\; come not only from the Hudson Valley region and New York State\, but from other regions of the country as well to discover the riches our Valley has to offer.&nbsp\;Whether you are interested in a challenging hike\, bike ride or paddle\, an inspiring walk through the grounds and homes of some of the Valley&rsquo\;s most notable artists\, authors\, and Great Americans\, a trip back in time to experience the significant role the region played in the Revolutionary War\, or a family-fun festival or river exploration event\, the Hudson River Valley Ramble truly offers something for everyone!</p>\n<p>&nbsp\;</p>\n<p><span style="font-size: 11pt\; font-family: 'Calibri'\,'sans-serif'\; mso-fareast-font-family: Calibri\; mso-fareast-theme-font: minor-latin\; mso-bidi-font-family: 'Times New Roman'\; mso-ansi-language: EN-US\; mso-fareast-language: EN-US\; mso-bidi-language: AR-SA\;"><a href="http://bit.ly/1lPultX">http://bit.ly/1lPultX</a></span></p>
LOCATION:
UID:e.2254.3508
SEQUENCE:3
DTSTAMP:20260424T111008Z
URL:https://chamber.saratoga.org/events/details/2014-hudson-river-valley-ramble-saratoga-county-events-08-31-2014-08-31-2014-3508
END:VEVENT

END:VCALENDAR
