BEGIN:VCALENDAR
VERSION:2.0
PRODID:-//ChamberMaster//Event Calendar 2.0//EN
METHOD:PUBLISH
X-PUBLISHED-TTL:P3D
REFRESH-INTERVAL:P3D
CALSCALE:GREGORIAN
BEGIN:VEVENT
DTSTART:20160625T153000Z
DTEND:20160626T010000Z
X-MICROSOFT-CDO-ALLDAYEVENT:FALSE
SUMMARY:200th Anniversary Celebration - Eagle-Matt Lee Fire Company #1
DESCRIPTION:Parade Starts at 11:30 sharp then rides\, games\, food\, music\, vendors\, and more to follow!
X-ALT-DESC;FMTTYPE=text/html:Parade Starts at 11:30 sharp then rides\, games\, food\, music\, vendors\, and more to follow!<br />\n&nbsp\;
LOCATION:Along Rte 50 to the Saratoga Fairgrounds Ballston Spa
UID:e.2254.16975
SEQUENCE:3
DTSTAMP:20260421T092847Z
URL:https://chamber.saratoga.org/events/details/200th-anniversary-celebration-eagle-matt-lee-fire-company-1-06-25-2016-16975
END:VEVENT

END:VCALENDAR
