BEGIN:VCALENDAR
VERSION:2.0
PRODID:-//ChamberMaster//Event Calendar 2.0//EN
METHOD:PUBLISH
X-PUBLISHED-TTL:P3D
REFRESH-INTERVAL:P3D
CALSCALE:GREGORIAN
BEGIN:VEVENT
DTSTART:20150314T170000Z
DTEND:20150314T200000Z
X-MICROSOFT-CDO-ALLDAYEVENT:FALSE
SUMMARY:1st Annual #Healthysaratoga HORSE Basketball Challenge Presented by BlueShield of Northeastern New York and Hosted by the Saratoga Regional YMCA
DESCRIPTION:You are invited to come out and support the 34 companies competing in the lingual #healthysaratoga HORSE Basketball Challenge on Saturday\, March 14 at the Saratoga Regional YMCA\, starting at 1 p.m. This event is FREE and open to the public and guarantees to bring excitement right up to the time when the winning company cuts down the net. To view the 34 participating companies\, please click here to view the bracket.
X-ALT-DESC;FMTTYPE=text/html:<p><font face="arial\, sans-serif"><span style="font-size: 13.3333330154419px\; line-height: 21.3333320617676px\;">You are invited to come out and support the 34 companies competing in the lingual&nbsp\;#healthysaratoga HORSE Basketball Challenge on Saturday\, March 14 at the Saratoga Regional YMCA\, starting at 1 p.m. This event is FREE and open to the public and guarantees to bring excitement right up to the time when the winning company cuts down the net. To view the 34 participating companies\, please <a href="http://cloud.chambermaster.com/userfiles/UserFiles/chambers/2254/File/bracketforsite.pdf">click here to view the bracket.</a> </span></font></p>\n
LOCATION:Saratoga Regional YMCA 290 West Avenue Saratoga Springs\, NY 12866
UID:e.2254.935
SEQUENCE:3
DTSTAMP:20260423T232214Z
URL:https://chamber.saratoga.org/events/details/1st-annual-healthysaratoga-horse-basketball-challenge-presented-by-blueshield-of-northeastern-new-york-and-hosted-by-the-saratoga-regional-ymca-03-14-2015-935
END:VEVENT

END:VCALENDAR
