BEGIN:VCALENDAR
VERSION:2.0
PRODID:-//ChamberMaster//Event Calendar 2.0//EN
METHOD:PUBLISH
X-PUBLISHED-TTL:P3D
REFRESH-INTERVAL:P3D
CALSCALE:GREGORIAN
BEGIN:VEVENT
DTSTART:20160609T210000Z
DTEND:20160610T000000Z
X-MICROSOFT-CDO-ALLDAYEVENT:FALSE
SUMMARY:1911 Cider and Spirit Tasting
DESCRIPTION:Join us for a tasting and giveaways!\n\n1911 brand small batch handcrafted spirits are made from apples they have been growing on their land in Upstate NY for over 100 years.\n\nLearn more: www.1911spirits.com.
X-ALT-DESC;FMTTYPE=text/html:<p>Join us for a tasting and giveaways!</p>\n\n<p>1911 brand small batch handcrafted spirits are made from apples they have been growing on their land in Upstate NY for over 100 years.</p>\n\n<p>Learn more:&nbsp\;<a href="http://www.1911spirits.com/" rel="nofollow nofollow" style="box-sizing: border-box\; color: rgb(35\, 31\, 32)\; -webkit-tap-highlight-color: rgba(0\, 0\, 0\, 0.298039)\; text-decoration: none\; border-bottom-width: 1px\; border-bottom-style: solid\; border-bottom-color: rgb(35\, 31\, 32)\; transition: background 0.15s cubic-bezier(0.33\, 0.66\, 0.66\, 1)\;" target="_blank">www.1911spirits.com</a>.</p>\n
LOCATION:2 West Bar & Grille\, 2 West Ave\, Saratoga
UID:e.2254.16830
SEQUENCE:3
DTSTAMP:20260421T094523Z
URL:https://chamber.saratoga.org/events/details/1911-cider-and-spirit-tasting-06-09-2016-16830
END:VEVENT

END:VCALENDAR
