BEGIN:VCALENDAR
VERSION:2.0
PRODID:-//ChamberMaster//Event Calendar 2.0//EN
METHOD:PUBLISH
X-PUBLISHED-TTL:P3D
REFRESH-INTERVAL:P3D
CALSCALE:GREGORIAN
BEGIN:VEVENT
DTSTART;VALUE=DATE:20160912
DTEND;VALUE=DATE:20160913
TRANSP:TRANSPARENT
X-MICROSOFT-CDO-ALLDAYEVENT:TRUE
SUMMARY:17th Annual Visionary Golf Tournamen
DESCRIPTION:Northeastern Association of the Blind at Albany 17th Annual Visionary Golf Tournament which will benefit NABA's Senior Adaptive Living Program. The inclusive event includes lunch\, shot gun start at 12:30pm\, one hour open bar\, dinner\, awards\, raffles and silent auction.
X-ALT-DESC;FMTTYPE=text/html:Northeastern Association of the Blind at Albany 17th Annual Visionary Golf Tournament which will benefit NABA&#39\;s Senior Adaptive Living Program. The inclusive event includes lunch\, shot gun start at 12:30pm\, one hour open bar\, dinner\, awards\, raffles and silent auction.
LOCATION:Wolferts Roost Country Club
UID:e.2254.16960
SEQUENCE:3
DTSTAMP:20260421T005827Z
URL:https://chamber.saratoga.org/events/details/17th-annual-visionary-golf-tournamen-09-12-2016-16960
END:VEVENT

END:VCALENDAR
